BEGIN:VCALENDAR
VERSION:2.0
PRODID:-//kudrovo.city//Events//RU
CALSCALE:GREGORIAN
METHOD:PUBLISH
BEGIN:VEVENT
DTSTART;TZID=Europe/Moscow:20260426T150000
DTEND;TZID=Europe/Moscow:20260426T170000
SUMMARY:День настольных игр «Играем\, развиваемся\, взрослеем!»
LOCATION:д. Заневка\, 48\, Кудрово
DESCRIPTION:https://kudrovo.city/Events
URL:https://kudrovo.city/Events
UID:0afad600c597407e90194f7f4bb509c8@kudrovo.city
DTSTAMP:20260422T094956Z
END:VEVENT
END:VCALENDAR
