BEGIN:VCALENDAR
VERSION:2.0
PRODID:-//kudrovo.city//Events//RU
CALSCALE:GREGORIAN
METHOD:PUBLISH
BEGIN:VEVENT
DTSTART;TZID=Europe/Moscow:20260425T150000
DTEND;TZID=Europe/Moscow:20260425T170000
SUMMARY:Мультимедийная викторина «Пой душа – весна пришла»
LOCATION:д. Заневка\, 48\, Кудрово
DESCRIPTION:https://kudrovo.city/Events
URL:https://kudrovo.city/Events
UID:52b7222438974b51a66730372cc4a61e@kudrovo.city
DTSTAMP:20260422T094732Z
END:VEVENT
END:VCALENDAR
