BEGIN:VCALENDAR
VERSION:2.0
PRODID:-//kudrovo.city//Events//RU
CALSCALE:GREGORIAN
METHOD:PUBLISH
BEGIN:VEVENT
DTSTART;TZID=Europe/Moscow:20260422T150000
DTEND;TZID=Europe/Moscow:20260422T170000
SUMMARY:Арт-терапевтическая встреча для взрослых
LOCATION:г. Кудрово\, Мурманское шоссе\, 12 км. пространство «Домик»\, 1 этаж
DESCRIPTION:https://kudrovo.city/Events
URL:https://kudrovo.city/Events
UID:9cad866ce5ab479ea1c3b064420c4d73@kudrovo.city
DTSTAMP:20260422T094713Z
END:VEVENT
END:VCALENDAR
