BEGIN:VCALENDAR
VERSION:2.0
PRODID:-//kudrovo.city//Events//RU
CALSCALE:GREGORIAN
METHOD:PUBLISH
BEGIN:VEVENT
DTSTART;TZID=Europe/Moscow:20260427T190000
DTEND;TZID=Europe/Moscow:20260427T210000
SUMMARY:Мастер-класс по декорированию ткани штампами
LOCATION:г. Кудрово\, пространство "Домик"
DESCRIPTION:https://kudrovo.city/Events
URL:https://kudrovo.city/Events
UID:fb5515f68e8f4669bfaa2af28dc639bb@kudrovo.city
DTSTAMP:20260422T094758Z
END:VEVENT
END:VCALENDAR
