BEGIN:VCALENDAR
VERSION:2.0
PRODID:-//kudrovo.city//Events//RU
CALSCALE:GREGORIAN
METHOD:PUBLISH
BEGIN:VEVENT
DTSTART;TZID=Europe/Moscow:20260425T150000
DTEND;TZID=Europe/Moscow:20260425T170000
SUMMARY:Фестиваль танца
LOCATION:пр. Строителей\, 25\, зд. 2\, Кудрово
DESCRIPTION:https://kudrovo.city/Events
URL:https://kudrovo.city/Events
UID:6973da4de1cb48029ffe99233140bc62@kudrovo.city
DTSTAMP:20260422T094935Z
END:VEVENT
END:VCALENDAR
