BEGIN:VCALENDAR
VERSION:2.0
PRODID:-//kudrovo.city//Events//RU
CALSCALE:GREGORIAN
METHOD:PUBLISH
BEGIN:VEVENT
DTSTART;TZID=Europe/Moscow:20260530T190000
DTEND;TZID=Europe/Moscow:20260530T210000
SUMMARY:Георгий Штиль
LOCATION:г. Кудрово\, пр. Строителей\, 39 (Уголок Кудрово)
DESCRIPTION:Георгий Антонович Штиль (94 года). Родился в Ленинграде.Советский и российский актер театра и кино. Заслуженный артист РСФСР (1987). Народный артист РФ (2001).Георгий Штиль родился 4 марта 1932 года в Ленинграде (ныне Санкт-Петербург).Имеет польские (по отцу) и немецкие (по матери) корни.У него есть младшая сестра.В Ленинграде их семья была соседями с Сергеем Мироновичем Кировым\, который даже несколько раз играл с Георгием Штилем.Во время Великой Отечественной войны был отправлен в эвакуацию в Башкирскую АССР\, где пробыл до окончания войны в деревне Надеждино. Отца на фронт не взяли по национальной принадлежности\, но оставили в тылу\, так как он работал на стратегическом оборонном заводе.После окончания средней школы им. Пушкина поступил в мореходное училище\, но был отчислен за драку с однокурсником.Далее пытался поступить в лётное училище\, но не прошёл по конкурсу\, «завалив» экзамен по немецкому языку\, несмотря на то\, что с шести до девяти лет воспитывался гувернанткой-немкой и его родители тоже говорили по-немецки.В 1961 году окончил Ленинградский театральный институт имени А. Н. Островского.В том же 1961 году стал актером Ленинградского академического Большого драматического театра имени М. Горького (с 1992 года &#8212\; имени Г.А. Товстоногова)\, в котором дебютировал в спектакле «Моя старшая сестра» по пьесе Александра Володина. Этому театру он отдал всю жизнь.Широкому зрителю стал известен благодаря своим многочисленным работам в кино. На экране дебютировал в 1960 году.Свои первые заметные роли сыграл в 1967 году &#8212\; Петра Кузяева в молодежном фильме «Личная жизнь Кузяева Валентина» и командира батареи Ромадина в военной ленте «Женя\, Женечка и &#171\;катюша&#187\;».Актер регулярно появлялся на экране\, правда\, исполнял в основном небольшие характерные роли. Особенно ярко Георгий Штиль исполнял комедийных персонажей. Заметными стали работы в лентах «Старая\, старая сказка» (Телохранитель)\, «Интервенция» (Марсиаль)\, «Даурия» (Георгий Лавров)\, «Новогодние приключения Маши и Вити» (Леший)\, «Сибириада» (Фрол)\, «Будьте моим мужем» (курортник\, владелец брюк)\, «Остров сокровищ» (О&#8217\;Брайен)\, «Питер Пэн» (Старки-Белоручка)\, «Чокнутые» (граф Потоцкий)\, «Возвращение &#171\;Броненосца&#187\;» (Соломон Гетман).В 2000-е актер стал активно появляться на экране в телесериалах. Одним из самых популярных персонажей стал тесть Рогова (Андрей Федорцов) Фёдор Ильич в криминальном детективе «Убойная сила». Также запомнился по роли начальника Межрайонного РУВД полковника милиции Геннадия Антоновича Фирсова по прозвищу &#171\;Кефирыч&#187\; в «Улицах разбитых фонарей».Среди других интересных работ актера &#8212\; ленты «Чёрный ворон» (Яков Израилевич Эрлих)\, «Ниро Вульф и Арчи Гудвин» (адвокат Шварц)\, «Русские в городе ангелов» (Матвей Георгиевич)\, «Мастер и Маргарита» (Андрей Фокич Соков)\, «Хозяйка тайги» (Яков Соломонович Блюменталь)\, «Колодец забытых желаний» (Василий Дмитриевич)\, «Целитель» (Свиридов).Заслуженный артист РСФСР (13.05.1987).Народный артист РФ (19.07.2001).Лауреат театральной премии СПб «Золотой софит» в номинации «За творческое долголетие и верность театру» (2013).Награжден медалью Пушкина (13.02.2004) и медалью ордена «За заслуги перед Отечеством» II степени (5.02.2009).В марте 2016 года в Санкт-Петербурге вышла книга мемуаров Георгия Штиля «У меня все роли главные» (автор идеи и литературная обработка &#8212\; Александр Рабинович).В 2017 году в честь 85-летнего юбиля артиста его родной театр поставил спектакль «Люксембургский сад» по пьесе «Второй закон Джаги-Янкелевича»\, сам Штиль сыграл роль одинокого эмигранта\, замешанного в детективной истории.23 февраля 2019 года актер был госпитализирован после того\, как плохо себя почувствовал перед спектаклем «Операция &#171\;Развод&#187\;»\, который должен был состояться на сцене ДК имени Дзержинског. Сам Штиль в беседе с журналистами признавался\, что попал в больницу из-за того\, что перетрудился на репетициях в театре и прихватило сердце.\n\nДважды был женат.Первая жена &#8212\; Римма Пав...\n\nhttps://kudrovo.city/Events
URL:https://kudrovo.city/Events
UID:9a7c078307ec4e779c70d69a5798d07a@kudrovo.city
DTSTAMP:20260422T094711Z
END:VEVENT
END:VCALENDAR
