BEGIN:VCALENDAR
VERSION:2.0
PRODID:-//kudrovo.city//Events//RU
CALSCALE:GREGORIAN
METHOD:PUBLISH
BEGIN:VEVENT
DTSTART;TZID=Europe/Moscow:20260424T170000
DTEND;TZID=Europe/Moscow:20260424T190000
SUMMARY:Оздоровительные занятия на осанку «Спина в движении»
LOCATION:Кудрово\, Строителей\, 41А
DESCRIPTION:https://kudrovo.city/Events
URL:https://kudrovo.city/Events
UID:0661f0e8e73c416ab83772c161e2600a@kudrovo.city
DTSTAMP:20260422T095101Z
END:VEVENT
END:VCALENDAR
