BEGIN:VCALENDAR
VERSION:2.0
PRODID:-//kudrovo.city//Events//RU
CALSCALE:GREGORIAN
METHOD:PUBLISH
BEGIN:VEVENT
DTSTART;TZID=Europe/Moscow:20260430T180000
DTEND;TZID=Europe/Moscow:20260430T200000
SUMMARY:Киновечер
LOCATION:Кудрово\, Мурманское ш. 12\, пространство «Домик»\, 1 этаж
DESCRIPTION:https://kudrovo.city/Events
URL:https://kudrovo.city/Events
UID:f62c8f4f74ab4f24963fda845b83e362@kudrovo.city
DTSTAMP:20260422T094559Z
END:VEVENT
END:VCALENDAR
