BEGIN:VCALENDAR
VERSION:2.0
PRODID:-//kudrovo.city//Events//RU
CALSCALE:GREGORIAN
METHOD:PUBLISH
BEGIN:VEVENT
DTSTART;TZID=Europe/Moscow:20260423T170000
DTEND;TZID=Europe/Moscow:20260423T190000
SUMMARY:Мастер-класс «Брошь из георгиевских лент»
LOCATION:ЦКД Кудрово\, пр. Строителей\, 19
DESCRIPTION:https://kudrovo.city/Events
URL:https://kudrovo.city/Events
UID:b230e375a3a7499780bc959517fbc961@kudrovo.city
DTSTAMP:20260422T095001Z
END:VEVENT
END:VCALENDAR
