BEGIN:VCALENDAR
VERSION:2.0
PRODID:-//kudrovo.city//Events//RU
CALSCALE:GREGORIAN
METHOD:PUBLISH
BEGIN:VEVENT
DTSTART;TZID=Europe/Moscow:20260426T110000
DTEND;TZID=Europe/Moscow:20260426T130000
SUMMARY:Дюймовочка\, или приключения маленькой девочки
LOCATION:г. Кудрово\, пр. Строителей\, 39 (Уголок Кудрово)
DESCRIPTION:Продолжительность спектакля: 40-60 мин.\n\nВ каждом цветке живет фея. Она всю зиму спит в семечке цветка\, а когда появляется бутон\, перебирается туда. Цветок раскрывается\, и фея отправляется навстречу приключениям . Почти\, как у Андерсена&#8230\;.\n\n👱‍♀️ Режиссёр-постановщик: Ольга Останина🎭 За ширмой: Люся Ворона\, Елена Степанова\n\nhttps://kudrovo.city/Events
URL:https://kudrovo.city/Events
UID:9aaa24d61106411a921f7df83437cb96@kudrovo.city
DTSTAMP:20260422T094909Z
END:VEVENT
END:VCALENDAR
