BEGIN:VCALENDAR
VERSION:2.0
PRODID:-//kudrovo.city//Events//RU
CALSCALE:GREGORIAN
METHOD:PUBLISH
BEGIN:VEVENT
DTSTART;TZID=Europe/Moscow:20260424T200000
DTEND;TZID=Europe/Moscow:20260424T220000
SUMMARY:При чём тут судьба? ПРЕМЬЕРА!
LOCATION:г. Кудрово\, пр. Строителей\, 39 (Уголок Кудрово)
DESCRIPTION:&#171\;При чем тут судьба?&#187\; — новая драма\, которая говорит простыми словами о самых сложных вещах. Мальчик-подросток стремится сохранить семью и становится тем самым мостом между родителями\, чтобы они вновь нашли друг друга. Непростая история о повседневной боли и удивительной силе желания быть рядом.\n\nВ главной роли — Глеб Бачинский\, 13 лет\, чей талант уже сегодня заставляет верить в силу сцены и в силу юной решимости героя.\n\n🤵‍♂️ Режиссёр-постановщик: Виталий Бисеров 🎭 В ролях: Глеб Бачинский\, Лайла Фахр\, Александр Бояркин💃 Хореограф: Полина Волошина\n\nАвторы пьесы: Змитер Арцюх и Людмила Боевчук. По мотивам повести &#171\;Я-не заморыш&#187\; Сергея Телевного при участия Дениса Логинова.\n\nhttps://kudrovo.city/Events
URL:https://kudrovo.city/Events
UID:4a67497b27a34f2dbf1e2c2278dfcff2@kudrovo.city
DTSTAMP:20260422T094759Z
END:VEVENT
END:VCALENDAR
