BEGIN:VCALENDAR
VERSION:2.0
PRODID:-//kudrovo.city//Events//RU
CALSCALE:GREGORIAN
METHOD:PUBLISH
BEGIN:VEVENT
DTSTART;TZID=Europe/Moscow:20260426T150000
DTEND;TZID=Europe/Moscow:20260426T170000
SUMMARY:Девочка с рыжими косичками
LOCATION:г. Кудрово\, пр. Строителей\, 39 (Уголок Кудрово)
DESCRIPTION:Готовы к взрыву веселья и фантазии? Тогда приглашаем вас на интерактивный спектакль-буффонаду &#171\;Девочка с рыжими косичками&#187\; по мотивам любимой всеми истории о Пеппи Длинный чулок от Астрид Линдгрен!\n\nВстречайте чудо-девочку\, чьи рыжие косички торчат в разные стороны\, как антенны\, ловящие самые невероятные идеи! 💡 Её фантазия безгранична\, а энергия бьёт ключом! 💫 Она преображает обыденный мир\, переворачивая всё с ног на голову\, и\, конечно же\, мир театра не останется прежним! 🎭\n\nПриходите и убедитесь сами\, как &#171\;Девочка с рыжими косичками&#187\; заставит вас смеяться до упаду\, удивляться и\, возможно\, даже немного пошалить! 😉 Этот спектакль — настоящий праздник непослушания и торжество детской непосредственности!\n\nhttps://kudrovo.city/Events
URL:https://kudrovo.city/Events
UID:468b171713c844679a51126d9e555111@kudrovo.city
DTSTAMP:20260422T094840Z
END:VEVENT
END:VCALENDAR
