BEGIN:VCALENDAR
VERSION:2.0
PRODID:-//kudrovo.city//Events//RU
CALSCALE:GREGORIAN
METHOD:PUBLISH
BEGIN:VEVENT
DTSTART;TZID=Europe/Moscow:20260425T110000
DTEND;TZID=Europe/Moscow:20260425T130000
SUMMARY:Здравствуй\, Солнышко!
LOCATION:г. Кудрово\, пр. Строителей\, 39 (Уголок Кудрово)
DESCRIPTION:Простой сюжет о маленьком и очень наивном Снеговичке\, который ищет Солнышко\, чтобы попросить его не приходить и не &#171\;растапливать&#187\; снег\, из которого он состоит. Неожиданно для всех\, эта сказка становится почти библейской историей о самопожертвовании и бессмертии добра\, и трогает до глубины души.\n\nhttps://kudrovo.city/Events
URL:https://kudrovo.city/Events
UID:6d4307e820d746968e84d84f1c53201d@kudrovo.city
DTSTAMP:20260422T094620Z
END:VEVENT
END:VCALENDAR
